Package: BatchSVG Version: 1.3.0 Command: /home/biocbuild/bbs-3.23-bioc/R/bin/R CMD INSTALL BatchSVG StartedAt: 2025-11-11 15:57:01 -0500 (Tue, 11 Nov 2025) EndedAt: 2025-11-11 15:57:27 -0500 (Tue, 11 Nov 2025) EllapsedTime: 26.0 seconds RetCode: 0 Status: OK