Package: BatchSVG Version: 1.3.0 Command: /home/biocbuild/bbs-3.23-bioc/R/bin/R CMD check --install=check:BatchSVG.install-out.txt --library=/home/biocbuild/bbs-3.23-bioc/R/site-library --timings BatchSVG_1.3.0.tar.gz StartedAt: 2025-11-25 21:18:35 -0500 (Tue, 25 Nov 2025) EndedAt: 2025-11-25 21:28:33 -0500 (Tue, 25 Nov 2025) EllapsedTime: 598.9 seconds RetCode: 0 Status: OK CheckDir: BatchSVG.Rcheck Warnings: 0