Package: BatchSVG Version: 1.3.0 Command: /home/biocbuild/bbs-3.23-bioc/R/bin/R CMD build --keep-empty-dirs --no-resave-data BatchSVG StartedAt: 2025-11-13 16:20:58 -0500 (Thu, 13 Nov 2025) EndedAt: 2025-11-13 16:23:49 -0500 (Thu, 13 Nov 2025) EllapsedTime: 171.1 seconds RetCode: 0 Status: OK PackageFile: BatchSVG_1.3.0.tar.gz PackageFileSize: 1.538 MiB