Package: BatchSVG Version: 1.3.0 Command: /Library/Frameworks/R.framework/Resources/bin/R CMD build --keep-empty-dirs --no-resave-data BatchSVG StartedAt: 2025-11-12 15:50:46 -0500 (Wed, 12 Nov 2025) EndedAt: 2025-11-12 15:51:00 -0500 (Wed, 12 Nov 2025) EllapsedTime: 14.2 seconds RetCode: 1 Status: ERROR PackageFile: None PackageFileSize: NA