Package: BatchQC Version: 2.7.0 Command: /Library/Frameworks/R.framework/Resources/bin/R CMD INSTALL BatchQC StartedAt: 2025-11-13 15:31:15 -0500 (Thu, 13 Nov 2025) EndedAt: 2025-11-13 15:31:30 -0500 (Thu, 13 Nov 2025) EllapsedTime: 15.4 seconds RetCode: 0 Status: OK