Package: BatchQC Version: 2.7.0 Command: /Library/Frameworks/R.framework/Resources/bin/R CMD build --keep-empty-dirs --no-resave-data BatchQC StartedAt: 2025-11-13 15:45:29 -0500 (Thu, 13 Nov 2025) EndedAt: 2025-11-13 15:47:42 -0500 (Thu, 13 Nov 2025) EllapsedTime: 132.4 seconds RetCode: 0 Status: OK PackageFile: BatchQC_2.7.0.tar.gz PackageFileSize: 4.263 MiB