Package: BasicSTARRseq Version: 1.39.0 Command: /home/biocbuild/bbs-3.23-bioc/R/bin/R CMD INSTALL BasicSTARRseq StartedAt: 2025-11-13 15:25:28 -0500 (Thu, 13 Nov 2025) EndedAt: 2025-11-13 15:25:55 -0500 (Thu, 13 Nov 2025) EllapsedTime: 26.9 seconds RetCode: 0 Status: OK