Package: BasicSTARRseq Version: 1.39.0 Command: /home/biocbuild/bbs-3.23-bioc/R/bin/R CMD check --install=check:BasicSTARRseq.install-out.txt --library=/home/biocbuild/bbs-3.23-bioc/R/site-library --timings BasicSTARRseq_1.39.0.tar.gz StartedAt: 2025-11-13 21:15:20 -0500 (Thu, 13 Nov 2025) EndedAt: 2025-11-13 21:18:24 -0500 (Thu, 13 Nov 2025) EllapsedTime: 183.2 seconds RetCode: 0 Status: OK CheckDir: BasicSTARRseq.Rcheck Warnings: 0