Package: BasicSTARRseq Version: 1.39.0 Command: /Library/Frameworks/R.framework/Resources/bin/R CMD check --install=check:BasicSTARRseq.install-out.txt --library=/Library/Frameworks/R.framework/Resources/library --no-vignettes --timings BasicSTARRseq_1.39.0.tar.gz StartedAt: 2025-11-14 18:35:17 -0500 (Fri, 14 Nov 2025) EndedAt: 2025-11-14 18:36:38 -0500 (Fri, 14 Nov 2025) EllapsedTime: 81.0 seconds RetCode: 0 Status: OK CheckDir: BasicSTARRseq.Rcheck Warnings: 0