Package: Basic4Cseq Version: 1.47.0 Command: /Library/Frameworks/R.framework/Resources/bin/R CMD INSTALL Basic4Cseq StartedAt: 2025-11-13 15:19:23 -0500 (Thu, 13 Nov 2025) EndedAt: 2025-11-13 15:19:37 -0500 (Thu, 13 Nov 2025) EllapsedTime: 14.0 seconds RetCode: 0 Status: OK