Package: BaseSpaceR Version: 1.55.0 Command: /Library/Frameworks/R.framework/Resources/bin/R CMD INSTALL BaseSpaceR StartedAt: 2025-11-14 15:02:49 -0500 (Fri, 14 Nov 2025) EndedAt: 2025-11-14 15:02:55 -0500 (Fri, 14 Nov 2025) EllapsedTime: 6.7 seconds RetCode: 0 Status: OK