Package: BaseSpaceR Version: 1.55.0 Command: /Library/Frameworks/R.framework/Resources/bin/R CMD build --keep-empty-dirs --no-resave-data BaseSpaceR StartedAt: 2025-11-13 15:44:41 -0500 (Thu, 13 Nov 2025) EndedAt: 2025-11-13 15:44:52 -0500 (Thu, 13 Nov 2025) EllapsedTime: 11.1 seconds RetCode: 0 Status: OK PackageFile: BaseSpaceR_1.55.0.tar.gz PackageFileSize: 581.2 KiB