Package: BaseSpaceR Version: 1.55.0 Command: rm -rf BaseSpaceR.buildbin-libdir && mkdir BaseSpaceR.buildbin-libdir && /Users/biocbuild/BBS/utils/build-universal.sh BaseSpaceR_1.55.0.tar.gz /Library/Frameworks/R.framework/Resources/bin/R BaseSpaceR.buildbin-libdir StartedAt: 2025-11-13 23:28:26 -0500 (Thu, 13 Nov 2025) EndedAt: 2025-11-13 23:28:30 -0500 (Thu, 13 Nov 2025) EllapsedTime: 4.1 seconds RetCode: 0 Status: OK PackageFile: BaseSpaceR_1.55.0.tgz PackageFileSize: 751.6 KiB