Package: BaseSpaceR Version: 1.55.0 Maintainer: Jared O'Connell MaintainerEmail: joconnell at illumina.com git_url: https://git.bioconductor.org/packages/BaseSpaceR git_branch: devel git_last_commit: 04f5512 git_last_commit_date: 2025-10-29 10:14:12 -0500 (Wed, 29 Oct 2025)