Package: BadRegionFinder Version: 1.39.0 Command: /home/biocbuild/bbs-3.23-bioc/R/bin/R CMD INSTALL BadRegionFinder StartedAt: 2025-11-11 15:48:47 -0500 (Tue, 11 Nov 2025) EndedAt: 2025-11-11 15:49:28 -0500 (Tue, 11 Nov 2025) EllapsedTime: 41.2 seconds RetCode: 0 Status: OK