Package: BadRegionFinder Version: 1.39.0 Command: /Library/Frameworks/R.framework/Resources/bin/R CMD INSTALL BadRegionFinder StartedAt: 2025-11-13 15:24:03 -0500 (Thu, 13 Nov 2025) EndedAt: 2025-11-13 15:24:19 -0500 (Thu, 13 Nov 2025) EllapsedTime: 16.4 seconds RetCode: 0 Status: OK