Package: BadRegionFinder Version: 1.39.0 Command: rm -rf BadRegionFinder.buildbin-libdir && mkdir BadRegionFinder.buildbin-libdir && /Users/biocbuild/BBS/utils/build-universal.sh BadRegionFinder_1.39.0.tar.gz /Library/Frameworks/R.framework/Resources/bin/R BadRegionFinder.buildbin-libdir StartedAt: 2025-11-13 23:28:11 -0500 (Thu, 13 Nov 2025) EndedAt: 2025-11-13 23:28:32 -0500 (Thu, 13 Nov 2025) EllapsedTime: 21.5 seconds RetCode: 0 Status: OK PackageFile: BadRegionFinder_1.39.0.tgz PackageFileSize: 930 KiB