Package: BadRegionFinder Version: 1.39.0 Maintainer: Sarah Sandmann MaintainerEmail: sarah.sandmann at uni-muenster.de git_url: https://git.bioconductor.org/packages/BadRegionFinder git_branch: devel git_last_commit: d483500 git_last_commit_date: 2025-10-29 10:31:21 -0500 (Wed, 29 Oct 2025)