Package: BaalChIP Version: 1.37.0 Command: /Library/Frameworks/R.framework/Resources/bin/R CMD INSTALL BaalChIP StartedAt: 2025-11-13 15:15:46 -0500 (Thu, 13 Nov 2025) EndedAt: 2025-11-13 15:16:14 -0500 (Thu, 13 Nov 2025) EllapsedTime: 28.1 seconds RetCode: 0 Status: OK