Package: BaalChIP Version: 1.37.0 Command: /Library/Frameworks/R.framework/Resources/bin/R CMD build --keep-empty-dirs --no-resave-data BaalChIP StartedAt: 2025-11-13 15:43:22 -0500 (Thu, 13 Nov 2025) EndedAt: 2025-11-13 15:44:16 -0500 (Thu, 13 Nov 2025) EllapsedTime: 53.6 seconds RetCode: 0 Status: OK PackageFile: BaalChIP_1.37.0.tar.gz PackageFileSize: 45.32 MiB