Package: BaalChIP Version: 1.37.0 Maintainer: Ines de Santiago MaintainerEmail: inesdesantiago at gmail.com git_url: https://git.bioconductor.org/packages/BaalChIP git_branch: devel git_last_commit: fd6bc03 git_last_commit_date: 2025-10-29 10:34:21 -0500 (Wed, 29 Oct 2025)