Package: BUSseq Version: 1.17.0 Command: /home/biocbuild/bbs-3.23-bioc/R/bin/R CMD INSTALL BUSseq StartedAt: 2025-11-27 15:18:03 -0500 (Thu, 27 Nov 2025) EndedAt: 2025-11-27 15:18:29 -0500 (Thu, 27 Nov 2025) EllapsedTime: 26.1 seconds RetCode: 0 Status: OK