Package: BUSseq Version: 1.17.0 Command: /Library/Frameworks/R.framework/Resources/bin/R CMD INSTALL BUSseq StartedAt: 2025-11-14 15:12:32 -0500 (Fri, 14 Nov 2025) EndedAt: 2025-11-14 15:12:42 -0500 (Fri, 14 Nov 2025) EllapsedTime: 10.4 seconds RetCode: 0 Status: OK