Package: BUSseq Version: 1.17.0 Command: /Library/Frameworks/R.framework/Resources/bin/R CMD build --keep-empty-dirs --no-resave-data BUSseq StartedAt: 2025-11-14 15:48:38 -0500 (Fri, 14 Nov 2025) EndedAt: 2025-11-14 15:49:09 -0500 (Fri, 14 Nov 2025) EllapsedTime: 31.3 seconds RetCode: 0 Status: OK PackageFile: BUSseq_1.17.0.tar.gz PackageFileSize: 914.6 KiB