Package: BUSseq Version: 1.17.0 Command: rm -rf BUSseq.buildbin-libdir && mkdir BUSseq.buildbin-libdir && /Users/biocbuild/BBS/utils/build-universal.sh BUSseq_1.17.0.tar.gz /Library/Frameworks/R.framework/Resources/bin/R BUSseq.buildbin-libdir StartedAt: 2025-11-14 23:25:12 -0500 (Fri, 14 Nov 2025) EndedAt: 2025-11-14 23:25:26 -0500 (Fri, 14 Nov 2025) EllapsedTime: 14.3 seconds RetCode: 0 Status: OK PackageFile: BUSseq_1.17.0.tgz PackageFileSize: 956.8 KiB