Package: BUScorrect Version: 1.29.0 Command: /Library/Frameworks/R.framework/Resources/bin/R CMD INSTALL BUScorrect StartedAt: 2025-11-13 15:11:45 -0500 (Thu, 13 Nov 2025) EndedAt: 2025-11-13 15:11:53 -0500 (Thu, 13 Nov 2025) EllapsedTime: 8.0 seconds RetCode: 0 Status: OK