Package: BUScorrect Version: 1.29.0 Command: rm -rf BUScorrect.buildbin-libdir && mkdir BUScorrect.buildbin-libdir && /Users/biocbuild/BBS/utils/build-universal.sh BUScorrect_1.29.0.tar.gz /Library/Frameworks/R.framework/Resources/bin/R BUScorrect.buildbin-libdir StartedAt: 2025-11-14 23:25:10 -0500 (Fri, 14 Nov 2025) EndedAt: 2025-11-14 23:25:21 -0500 (Fri, 14 Nov 2025) EllapsedTime: 11.2 seconds RetCode: 0 Status: OK PackageFile: BUScorrect_1.29.0.tgz PackageFileSize: 3.602 MiB