Package: BUMHMM Version: 1.35.0 Command: /Library/Frameworks/R.framework/Resources/bin/R CMD INSTALL BUMHMM StartedAt: 2025-11-19 15:19:11 -0500 (Wed, 19 Nov 2025) EndedAt: 2025-11-19 15:19:21 -0500 (Wed, 19 Nov 2025) EllapsedTime: 10.2 seconds RetCode: 0 Status: OK