Package: BUMHMM Version: 1.35.0 Command: /Library/Frameworks/R.framework/Resources/bin/R CMD build --keep-empty-dirs --no-resave-data BUMHMM StartedAt: 2025-11-19 15:49:33 -0500 (Wed, 19 Nov 2025) EndedAt: 2025-11-19 15:49:52 -0500 (Wed, 19 Nov 2025) EllapsedTime: 18.2 seconds RetCode: 0 Status: OK PackageFile: BUMHMM_1.35.0.tar.gz PackageFileSize: 712 KiB