Package: BUMHMM Version: 1.35.0 Command: rm -rf BUMHMM.buildbin-libdir && mkdir BUMHMM.buildbin-libdir && /Users/biocbuild/BBS/utils/build-universal.sh BUMHMM_1.35.0.tar.gz /Library/Frameworks/R.framework/Resources/bin/R BUMHMM.buildbin-libdir StartedAt: 2025-11-19 23:26:21 -0500 (Wed, 19 Nov 2025) EndedAt: 2025-11-19 23:26:35 -0500 (Wed, 19 Nov 2025) EllapsedTime: 13.3 seconds RetCode: 0 Status: OK PackageFile: BUMHMM_1.35.0.tgz PackageFileSize: 750.9 KiB