Package: BREW3R.r Version: 1.7.0 Command: /home/biocbuild/bbs-3.23-bioc/R/bin/R CMD INSTALL BREW3R.r StartedAt: 2025-11-13 15:17:03 -0500 (Thu, 13 Nov 2025) EndedAt: 2025-11-13 15:17:10 -0500 (Thu, 13 Nov 2025) EllapsedTime: 7.6 seconds RetCode: 0 Status: OK