Package: BREW3R.r Version: 1.7.0 Command: /home/biocbuild/bbs-3.23-bioc/R/bin/R CMD build --keep-empty-dirs --no-resave-data BREW3R.r StartedAt: 2025-11-13 16:33:36 -0500 (Thu, 13 Nov 2025) EndedAt: 2025-11-13 16:34:08 -0500 (Thu, 13 Nov 2025) EllapsedTime: 32.0 seconds RetCode: 0 Status: OK PackageFile: BREW3R.r_1.7.0.tar.gz PackageFileSize: 1.887 MiB