Package: BPRMeth Version: 1.37.0 Command: /home/biocbuild/bbs-3.23-bioc/R/bin/R CMD INSTALL BPRMeth StartedAt: 2025-11-14 15:17:08 -0500 (Fri, 14 Nov 2025) EndedAt: 2025-11-14 15:17:35 -0500 (Fri, 14 Nov 2025) EllapsedTime: 27.3 seconds RetCode: 0 Status: OK