Package: BPRMeth Version: 1.37.0 Command: /home/biocbuild/bbs-3.23-bioc/R/bin/R CMD build --keep-empty-dirs --no-resave-data BPRMeth StartedAt: 2025-11-14 16:33:28 -0500 (Fri, 14 Nov 2025) EndedAt: 2025-11-14 16:34:58 -0500 (Fri, 14 Nov 2025) EllapsedTime: 89.1 seconds RetCode: 0 Status: OK PackageFile: BPRMeth_1.37.0.tar.gz PackageFileSize: 3.163 MiB