Package: BPRMeth Version: 1.37.0 Maintainer: Chantriolnt-Andreas Kapourani MaintainerEmail: kapouranis.andreas at gmail.com git_url: https://git.bioconductor.org/packages/BPRMeth git_branch: devel git_last_commit: bb441a5 git_last_commit_date: 2025-10-29 10:35:38 -0500 (Wed, 29 Oct 2025)