Package: BOBaFIT Version: 1.15.0 Command: /home/biocbuild/bbs-3.23-bioc/R/bin/R CMD INSTALL BOBaFIT StartedAt: 2025-11-13 15:47:00 -0500 (Thu, 13 Nov 2025) EndedAt: 2025-11-13 15:47:50 -0500 (Thu, 13 Nov 2025) EllapsedTime: 50.6 seconds RetCode: 0 Status: OK