Package: BOBaFIT Version: 1.15.0 Command: /home/biocbuild/bbs-3.23-bioc/R/bin/R CMD build --keep-empty-dirs --no-resave-data BOBaFIT StartedAt: 2025-11-11 16:36:28 -0500 (Tue, 11 Nov 2025) EndedAt: 2025-11-11 16:38:06 -0500 (Tue, 11 Nov 2025) EllapsedTime: 98.1 seconds RetCode: 0 Status: OK PackageFile: BOBaFIT_1.15.0.tar.gz PackageFileSize: 2.498 MiB