Package: BOBaFIT Version: 1.15.0 Command: /Library/Frameworks/R.framework/Resources/bin/R CMD INSTALL BOBaFIT StartedAt: 2025-11-13 15:25:20 -0500 (Thu, 13 Nov 2025) EndedAt: 2025-11-13 15:25:41 -0500 (Thu, 13 Nov 2025) EllapsedTime: 20.5 seconds RetCode: 0 Status: OK