Package: BOBaFIT Version: 1.15.0 Command: /Library/Frameworks/R.framework/Resources/bin/R CMD build --keep-empty-dirs --no-resave-data BOBaFIT StartedAt: 2025-11-12 15:53:59 -0500 (Wed, 12 Nov 2025) EndedAt: 2025-11-12 15:54:41 -0500 (Wed, 12 Nov 2025) EllapsedTime: 41.5 seconds RetCode: 0 Status: OK PackageFile: BOBaFIT_1.15.0.tar.gz PackageFileSize: 2.496 MiB