Package: BLMA Version: 1.35.0 Command: /Library/Frameworks/R.framework/Resources/bin/R CMD INSTALL BLMA StartedAt: 2025-11-12 15:32:23 -0500 (Wed, 12 Nov 2025) EndedAt: 2025-11-12 15:32:31 -0500 (Wed, 12 Nov 2025) EllapsedTime: 7.0 seconds RetCode: 0 Status: OK