Package: BLMA Version: 1.35.0 Maintainer: Van-Dung Pham MaintainerEmail: dvp0001 at auburn.edu git_url: https://git.bioconductor.org/packages/BLMA git_branch: devel git_last_commit: 2a54068 git_last_commit_date: 2025-10-29 10:38:21 -0500 (Wed, 29 Oct 2025)