Package: BG2 Version: 1.11.0 Command: /Library/Frameworks/R.framework/Resources/bin/R CMD INSTALL BG2 StartedAt: 2025-11-14 15:06:06 -0500 (Fri, 14 Nov 2025) EndedAt: 2025-11-14 15:06:10 -0500 (Fri, 14 Nov 2025) EllapsedTime: 3.7 seconds RetCode: 0 Status: OK