Package: BG2 Version: 1.11.0 Command: /Library/Frameworks/R.framework/Resources/bin/R CMD build --keep-empty-dirs --no-resave-data BG2 StartedAt: 2025-11-14 15:44:13 -0500 (Fri, 14 Nov 2025) EndedAt: 2025-11-14 15:45:35 -0500 (Fri, 14 Nov 2025) EllapsedTime: 82.0 seconds RetCode: 0 Status: OK PackageFile: BG2_1.11.0.tar.gz PackageFileSize: 1.131 MiB