Package: BG2 Version: 1.11.0 Command: rm -rf BG2.buildbin-libdir && mkdir BG2.buildbin-libdir && /Users/biocbuild/BBS/utils/build-universal.sh BG2_1.11.0.tar.gz /Library/Frameworks/R.framework/Resources/bin/R BG2.buildbin-libdir StartedAt: 2025-11-14 23:24:04 -0500 (Fri, 14 Nov 2025) EndedAt: 2025-11-14 23:24:07 -0500 (Fri, 14 Nov 2025) EllapsedTime: 3.1 seconds RetCode: 0 Status: OK PackageFile: BG2_1.11.0.tgz PackageFileSize: 1.166 MiB