Package: BERT Version: 1.7.0 Command: /home/biocbuild/bbs-3.23-bioc/R/bin/R CMD INSTALL BERT StartedAt: 2025-11-16 15:29:27 -0500 (Sun, 16 Nov 2025) EndedAt: 2025-11-16 15:29:29 -0500 (Sun, 16 Nov 2025) EllapsedTime: 2.4 seconds RetCode: 0 Status: OK