Package: BERT Version: 1.7.0 Command: /Library/Frameworks/R.framework/Resources/bin/R CMD build --keep-empty-dirs --no-resave-data BERT StartedAt: 2025-11-13 15:47:09 -0500 (Thu, 13 Nov 2025) EndedAt: 2025-11-13 15:47:20 -0500 (Thu, 13 Nov 2025) EllapsedTime: 11.1 seconds RetCode: 0 Status: OK PackageFile: BERT_1.7.0.tar.gz PackageFileSize: 258.2 KiB