Package: BERT Version: 1.7.0 Command: rm -rf BERT.buildbin-libdir && mkdir BERT.buildbin-libdir && /Users/biocbuild/BBS/utils/build-universal.sh BERT_1.7.0.tar.gz /Library/Frameworks/R.framework/Resources/bin/R BERT.buildbin-libdir StartedAt: 2025-11-13 23:28:58 -0500 (Thu, 13 Nov 2025) EndedAt: 2025-11-13 23:29:00 -0500 (Thu, 13 Nov 2025) EllapsedTime: 2.1 seconds RetCode: 0 Status: OK PackageFile: BERT_1.7.0.tgz PackageFileSize: 324.3 KiB