Package: BEAT Version: 1.49.0 Command: /Library/Frameworks/R.framework/Resources/bin/R CMD INSTALL BEAT StartedAt: 2025-11-14 15:26:37 -0500 (Fri, 14 Nov 2025) EndedAt: 2025-11-14 15:26:51 -0500 (Fri, 14 Nov 2025) EllapsedTime: 14.5 seconds RetCode: 0 Status: OK