Package: BEAT Version: 1.49.0 Command: /Library/Frameworks/R.framework/Resources/bin/R CMD build --keep-empty-dirs --no-resave-data BEAT StartedAt: 2025-11-14 15:43:51 -0500 (Fri, 14 Nov 2025) EndedAt: 2025-11-14 15:44:26 -0500 (Fri, 14 Nov 2025) EllapsedTime: 35.4 seconds RetCode: 0 Status: OK PackageFile: BEAT_1.49.0.tar.gz PackageFileSize: 3.293 MiB