Package: BEAT Version: 1.49.0 Command: rm -rf BEAT.buildbin-libdir && mkdir BEAT.buildbin-libdir && /Users/biocbuild/BBS/utils/build-universal.sh BEAT_1.49.0.tar.gz /Library/Frameworks/R.framework/Resources/bin/R BEAT.buildbin-libdir StartedAt: 2025-11-14 23:23:56 -0500 (Fri, 14 Nov 2025) EndedAt: 2025-11-14 23:24:14 -0500 (Fri, 14 Nov 2025) EllapsedTime: 18.5 seconds RetCode: 0 Status: OK PackageFile: BEAT_1.49.0.tgz PackageFileSize: 3.35 MiB